BEGIN:VCALENDAR
VERSION:2.0
PRODID:-// - ECPv6.15.20//NONSGML v1.0//EN
CALSCALE:GREGORIAN
METHOD:PUBLISH
X-ORIGINAL-URL:https://adventurekayaking.com
X-WR-CALDESC:Events for 
REFRESH-INTERVAL;VALUE=DURATION:PT1H
X-Robots-Tag:noindex
X-PUBLISHED-TTL:PT1H
BEGIN:VTIMEZONE
TZID:America/Los_Angeles
BEGIN:DAYLIGHT
TZOFFSETFROM:-0800
TZOFFSETTO:-0700
TZNAME:PDT
DTSTART:20240310T100000
END:DAYLIGHT
BEGIN:STANDARD
TZOFFSETFROM:-0700
TZOFFSETTO:-0800
TZNAME:PST
DTSTART:20241103T090000
END:STANDARD
BEGIN:DAYLIGHT
TZOFFSETFROM:-0800
TZOFFSETTO:-0700
TZNAME:PDT
DTSTART:20250309T100000
END:DAYLIGHT
BEGIN:STANDARD
TZOFFSETFROM:-0700
TZOFFSETTO:-0800
TZNAME:PST
DTSTART:20251102T090000
END:STANDARD
BEGIN:DAYLIGHT
TZOFFSETFROM:-0800
TZOFFSETTO:-0700
TZNAME:PDT
DTSTART:20260308T100000
END:DAYLIGHT
BEGIN:STANDARD
TZOFFSETFROM:-0700
TZOFFSETTO:-0800
TZNAME:PST
DTSTART:20261101T090000
END:STANDARD
END:VTIMEZONE
BEGIN:VEVENT
DTSTART;VALUE=DATE:20250909
DTEND;VALUE=DATE:20250924
DTSTAMP:20260425T065051
CREATED:20250329T161713Z
LAST-MODIFIED:20250414T173830Z
UID:4601-1757376000-1758671999@adventurekayaking.com
SUMMARY:Grand Canyon
DESCRIPTION:15 Days / 14 Nights \nBig Water Class III/IV \n278 Miles \nMotor Rig Support: Tour West
URL:https://adventurekayaking.com/calendar/grand-canyon/
LOCATION:Meeting Location: Marble Canyon Lodge\, US-89A\, Marble Canyon\, AZ\, 86036\, United States
ORGANIZER;CN="Tour West":MAILTO:info@tourwest.com
END:VEVENT
BEGIN:VEVENT
DTSTART;VALUE=DATE:20250806
DTEND;VALUE=DATE:20250811
DTSTAMP:20260425T065051
CREATED:20250329T161037Z
LAST-MODIFIED:20250414T174000Z
UID:4593-1754438400-1754870399@adventurekayaking.com
SUMMARY:Rogue River
DESCRIPTION:5 Days / 4 Nights \nClass II/III \n40 Miles \nRaft Support: Indigo Creek Outfitters
URL:https://adventurekayaking.com/calendar/rogue-river/
LOCATION:Meeting Location: Galice Resort\, 11744 Galice Rd\, Merlin\, OR\, 97532\, United States
ORGANIZER;CN="Indigo Creek Outfitters":MAILTO:info@indigocreekoutfitters.com
END:VEVENT
BEGIN:VEVENT
DTSTART;VALUE=DATE:20250714
DTEND;VALUE=DATE:20250720
DTSTAMP:20260425T065051
CREATED:20250329T160529Z
LAST-MODIFIED:20250414T174044Z
UID:4590-1752451200-1752969599@adventurekayaking.com
SUMMARY:Main Salmon
DESCRIPTION:6 Days / 5 Nights \nBig Water Class III \n79 Miles \nRaft Support: Momentum River Expeditions
URL:https://adventurekayaking.com/calendar/main-salmon/
LOCATION:Meeting Location: Lemhi County Airport\, Airport Rd\, Salmon\, ID\, 83467\, United States
ORGANIZER;CN="Momentum River Expeditions":MAILTO:info@momentumriverexpeditions.com
END:VEVENT
BEGIN:VEVENT
DTSTART;VALUE=DATE:20250702
DTEND;VALUE=DATE:20250708
DTSTAMP:20260425T065051
CREATED:20250329T160020Z
LAST-MODIFIED:20250414T174107Z
UID:4588-1751414400-1751932799@adventurekayaking.com
SUMMARY:Middle Fork Salmon
DESCRIPTION:6 Days / 5 Nights \nClass III/IV \n100 Miles \nRaft Support: ARTA River Trips
URL:https://adventurekayaking.com/calendar/middle-fork-salmon-3/
LOCATION:Meeting Location: River One\, ID-75\, Stanley\, ID\, 83278\, United States
ORGANIZER;CN="ARTA River Trips":MAILTO:arta@arta.org
END:VEVENT
BEGIN:VEVENT
DTSTART;VALUE=DATE:20250624
DTEND;VALUE=DATE:20250630
DTSTAMP:20260425T065051
CREATED:20250329T155831Z
LAST-MODIFIED:20250414T174131Z
UID:4581-1750723200-1751241599@adventurekayaking.com
SUMMARY:Middle Fork Salmon
DESCRIPTION:6 Days / 5 Nights \nClass III/IV \n100 Miles \nRaft Support: ARTA River Trips
URL:https://adventurekayaking.com/calendar/middle-fork-salmon-2/
LOCATION:Meeting Location: River One\, ID-75\, Stanley\, ID\, 83278\, United States
ORGANIZER;CN="ARTA River Trips":MAILTO:arta@arta.org
END:VEVENT
BEGIN:VEVENT
DTSTART;VALUE=DATE:20250530
DTEND;VALUE=DATE:20250603
DTSTAMP:20260425T065051
CREATED:20250328T215208Z
LAST-MODIFIED:20250416T173003Z
UID:4577-1748563200-1748908799@adventurekayaking.com
SUMMARY:Lodore
DESCRIPTION:4 Days / 3 Nights \nClass III/IV \n44 Miles \nRaft Support: ARTA River Trips
URL:https://adventurekayaking.com/calendar/lodore/
LOCATION:Meeting Location: Dinosaur Inn\, 251 E Main St\, Vernal\, UT\, 84078\, United States
ORGANIZER;CN="ARTA River Trips":MAILTO:arta@arta.org
END:VEVENT
BEGIN:VEVENT
DTSTART;VALUE=DATE:20250525
DTEND;VALUE=DATE:20250530
DTSTAMP:20260425T065051
CREATED:20250328T212229Z
LAST-MODIFIED:20250416T172940Z
UID:4564-1748131200-1748563199@adventurekayaking.com
SUMMARY:Yampa
DESCRIPTION:5 Days / 4 Nights \nBig Water Class II/ III \n71 Miles \nRaft Support: ARTA River Trips
URL:https://adventurekayaking.com/calendar/yampa/
LOCATION:Meeting Location: Dinosaur Inn\, 251 E Main St\, Vernal\, UT\, 84078\, United States
ORGANIZER;CN="Dreamer Adventure Kayaking":MAILTO:info@adventurekayaking.com
END:VEVENT
BEGIN:VEVENT
DTSTART;VALUE=DATE:20250421
DTEND;VALUE=DATE:20250427
DTSTAMP:20260425T065051
CREATED:20250328T210929Z
LAST-MODIFIED:20250414T174303Z
UID:4553-1745193600-1745711999@adventurekayaking.com
SUMMARY:Lower Owyhee
DESCRIPTION:6 Days / 5 Nights \nClass III \n55 Miles \nRaft Support: Momentum River Expeditions
URL:https://adventurekayaking.com/calendar/lower-owyhee/
LOCATION:Meeting Location: Owyhee River Put In\, Rome\, OR\, 97910\, United States
ORGANIZER;CN="Momentum River Expeditions":MAILTO:info@momentumriverexpeditions.com
END:VEVENT
END:VCALENDAR