BEGIN:VCALENDAR
VERSION:2.0
PRODID:-// - ECPv6.15.20//NONSGML v1.0//EN
CALSCALE:GREGORIAN
METHOD:PUBLISH
X-ORIGINAL-URL:https://adventurekayaking.com
X-WR-CALDESC:Events for 
REFRESH-INTERVAL;VALUE=DURATION:PT1H
X-Robots-Tag:noindex
X-PUBLISHED-TTL:PT1H
BEGIN:VTIMEZONE
TZID:America/Los_Angeles
BEGIN:DAYLIGHT
TZOFFSETFROM:-0800
TZOFFSETTO:-0700
TZNAME:PDT
DTSTART:20250309T100000
END:DAYLIGHT
BEGIN:STANDARD
TZOFFSETFROM:-0700
TZOFFSETTO:-0800
TZNAME:PST
DTSTART:20251102T090000
END:STANDARD
BEGIN:DAYLIGHT
TZOFFSETFROM:-0800
TZOFFSETTO:-0700
TZNAME:PDT
DTSTART:20260308T100000
END:DAYLIGHT
BEGIN:STANDARD
TZOFFSETFROM:-0700
TZOFFSETTO:-0800
TZNAME:PST
DTSTART:20261101T090000
END:STANDARD
BEGIN:DAYLIGHT
TZOFFSETFROM:-0800
TZOFFSETTO:-0700
TZNAME:PDT
DTSTART:20270314T100000
END:DAYLIGHT
BEGIN:STANDARD
TZOFFSETFROM:-0700
TZOFFSETTO:-0800
TZNAME:PST
DTSTART:20271107T090000
END:STANDARD
END:VTIMEZONE
BEGIN:VEVENT
DTSTART;VALUE=DATE:20260524
DTEND;VALUE=DATE:20260529
DTSTAMP:20260424T014502
CREATED:20251004T032626Z
LAST-MODIFIED:20251004T033118Z
UID:5172-1779580800-1780012799@adventurekayaking.com
SUMMARY:Yampa
DESCRIPTION:5 Days / 4 Nights \nBig Water Class II / III \n71 Miles \nRaft Support: ARTA River Trips
URL:https://adventurekayaking.com/calendar/yampa-2/
LOCATION:Meeting Location: Dinosaur Inn\, 251 E Main St\, Vernal\, UT\, 84078\, United States
ORGANIZER;CN="ARTA River Trips":MAILTO:arta@arta.org
END:VEVENT
BEGIN:VEVENT
DTSTART;VALUE=DATE:20260529
DTEND;VALUE=DATE:20260602
DTSTAMP:20260424T014502
CREATED:20251004T032757Z
LAST-MODIFIED:20251004T033012Z
UID:5174-1780012800-1780358399@adventurekayaking.com
SUMMARY:Lodore
DESCRIPTION:4 Days / 3 Nights \nClass III / IV \n44 Miles \nRaft SUpport: ARTA River Trips
URL:https://adventurekayaking.com/calendar/lodore-2/
LOCATION:Meeting Location: Dinosaur Inn\, 251 E Main St\, Vernal\, UT\, 84078\, United States
ORGANIZER;CN="ARTA River Trips":MAILTO:arta@arta.org
END:VEVENT
END:VCALENDAR